BEGIN:VCALENDAR
VERSION:2.0
PRODID:-//hacksw/handcal//NONSGML v1.0//EN
CALSCALE:GREGORIAN
BEGIN:VEVENT
LOCATION:Lenexa Public Market
DESCRIPTION:https://kansascityonthecheap.com/event/lenexa-farmers-market/
DTSTART;TZID=America/Chicago:20260905T080000
DTEND;TZID=America/Chicago:20260905T120000
SUMMARY:Native Plant Sale
URL;VALUE=URI:https://kansascityonthecheap.com/event/lenexa-farmers-market/
DTSTAMP:20260424T094116
UID:69eb810c5c4ac
END:VEVENT
END:VCALENDAR