BEGIN:VCALENDAR
VERSION:2.0
PRODID:-//hacksw/handcal//NONSGML v1.0//EN
CALSCALE:GREGORIAN
BEGIN:VEVENT
LOCATION:Lenexa Public Market
DESCRIPTION:https://kansascityonthecheap.com/event/lenexa-farmers-market-5/
DTSTART;TZID=America/Chicago:20260523T080000
DTEND;TZID=America/Chicago:20260523T130000
SUMMARY:Native Plant Sale
URL;VALUE=URI:https://kansascityonthecheap.com/event/lenexa-farmers-market-5/
DTSTAMP:20260424T095629
UID:69eb849d1644d
END:VEVENT
END:VCALENDAR