BEGIN:VCALENDAR
VERSION:2.0
PRODID:-//hacksw/handcal//NONSGML v1.0//EN
CALSCALE:GREGORIAN
BEGIN:VEVENT
LOCATION:Lenexa Public Market
DESCRIPTION:https://kansascityonthecheap.com/event/lenexa-farmers-market-4/
DTSTART;TZID=America/Chicago:20260425T080000
DTEND;TZID=America/Chicago:20260425T120000
SUMMARY:Native Plant Sale
URL;VALUE=URI:https://kansascityonthecheap.com/event/lenexa-farmers-market-4/
DTSTAMP:20260423T210011
UID:69eaceab630f0
END:VEVENT
END:VCALENDAR