BEGIN:VCALENDAR
VERSION:2.0
PRODID:-//hacksw/handcal//NONSGML v1.0//EN
CALSCALE:GREGORIAN
BEGIN:VEVENT
LOCATION:Lenexa Public Market
DESCRIPTION:https://kansascityonthecheap.com/event/lenexa-farmers-market-3/
DTSTART;TZID=America/Chicago:20260526T090000
DTEND;TZID=America/Chicago:20260825T130000
SUMMARY:Lenexa Farmers Market
URL;VALUE=URI:https://kansascityonthecheap.com/event/lenexa-farmers-market-3/
DTSTAMP:20260423T210354
UID:69eacf8a9fc67
END:VEVENT
END:VCALENDAR