BEGIN:VCALENDAR
VERSION:2.0
PRODID:-//hacksw/handcal//NONSGML v1.0//EN
CALSCALE:GREGORIAN
BEGIN:VEVENT
LOCATION:Lenexa Public Market
DESCRIPTION:https://kansascityonthecheap.com/event/lenexa-farmers-market-2/
DTSTART;TZID=America/Chicago:20260425T080000
DTEND;TZID=America/Chicago:20261031T120000
SUMMARY:Lenexa Farmers Market
URL;VALUE=URI:https://kansascityonthecheap.com/event/lenexa-farmers-market-2/
DTSTAMP:20260423T210115
UID:69eaceebcc1db
END:VEVENT
END:VCALENDAR