BEGIN:VCALENDAR
VERSION:2.0
PRODID:-//hacksw/handcal//NONSGML v1.0//EN
CALSCALE:GREGORIAN
BEGIN:VEVENT
LOCATION:Shawnee Civic Centre\, 13817 Johnson Drive\, Shawnee\, KS
DESCRIPTION:https://kansascityonthecheap.com/event/shawnee-kids-night-out-april-24-2026/
DTSTART;TZID=America/Chicago:20260424T180000
DTEND;TZID=America/Chicago:20260424T210000
SUMMARY:Kid's Night Out
URL;VALUE=URI:https://kansascityonthecheap.com/event/shawnee-kids-night-out-april-24-2026/
DTSTAMP:20260422T144224
UID:69e924a0aa071
END:VEVENT
END:VCALENDAR