BEGIN:VCALENDAR
VERSION:2.0
PRODID:-//hacksw/handcal//NONSGML v1.0//EN
CALSCALE:GREGORIAN
BEGIN:VEVENT
LOCATION:Domino's Pizza
DESCRIPTION:https://kansascityonthecheap.com/event/dominos-slices-50-off-regular-pizza-prices-for-one-week/
DTSTART;TZID=America/Chicago:20260422T000000
DTEND;TZID=America/Chicago:20260426T000000
SUMMARY:50% off Regular Pizza (Handmade Pan\, Gluten Free\, & Specialty Pizzas)
URL;VALUE=URI:https://kansascityonthecheap.com/event/dominos-slices-50-off-regular-pizza-prices-for-one-week/
DTSTAMP:20260422T143510
UID:69e922eeb64e4
END:VEVENT
END:VCALENDAR