BEGIN:VCALENDAR
VERSION:2.0
PRODID:-//hacksw/handcal//NONSGML v1.0//EN
CALSCALE:GREGORIAN
BEGIN:VEVENT
LOCATION:Various Locations - See Related Post for Specific Locations
DESCRIPTION:https://kansascityonthecheap.com/event/kansas-city-passport-to-adventure/
DTSTART;TZID=America/Chicago:20260404T000000
DTEND;TZID=America/Chicago:20261031T000000
SUMMARY:Passport to Adventure Kansas City
URL;VALUE=URI:https://kansascityonthecheap.com/event/kansas-city-passport-to-adventure/
DTSTAMP:20260422T122652
UID:69e904dc0dd64
END:VEVENT
END:VCALENDAR