BEGIN:VCALENDAR
VERSION:2.0
PRODID:-//hacksw/handcal//NONSGML v1.0//EN
CALSCALE:GREGORIAN
BEGIN:VEVENT
LOCATION:Parkville Microbrew Fest\, 8701 McAfee Street\, Parkville\, MO
DESCRIPTION:https://kansascityonthecheap.com/event/parkville-microbrew-fest/
DTSTART;TZID=America/Chicago:20260425T130000
DTEND;TZID=America/Chicago:20260425T170000
SUMMARY:Brew Sampling Begins
URL;VALUE=URI:https://kansascityonthecheap.com/event/parkville-microbrew-fest/
DTSTAMP:20260418T173244
UID:69e4068cc8d47
END:VEVENT
END:VCALENDAR