BEGIN:VCALENDAR
VERSION:2.0
PRODID:-//hacksw/handcal//NONSGML v1.0//EN
CALSCALE:GREGORIAN
BEGIN:VEVENT
LOCATION:Parkville Microbrew Fest\, 8701 McAfee Street\, Parkville\, MO
DESCRIPTION:https://kansascityonthecheap.com/event/parkville-microbrew-fest-2/
DTSTART;TZID=America/Chicago:20260425T110000
DTEND;TZID=America/Chicago:20260425T170000
SUMMARY:Avoid Lines\, Eat\, Music\, Shop\, Explore Downtown\,
URL;VALUE=URI:https://kansascityonthecheap.com/event/parkville-microbrew-fest-2/
DTSTAMP:20260418T173315
UID:69e406ab9163f
END:VEVENT
END:VCALENDAR