BEGIN:VCALENDAR
VERSION:2.0
PRODID:-//hacksw/handcal//NONSGML v1.0//EN
CALSCALE:GREGORIAN
BEGIN:VEVENT
LOCATION:Johnson County Arts and Heritage Center\, 8788 Metcalf Avenue\, Overland Park\, KS
DESCRIPTION:https://kansascityonthecheap.com/event/free-museum-entry-3/
DTSTART;TZID=America/Chicago:20260912T000000
DTEND;TZID=America/Chicago:20260912T000000
SUMMARY:Free Museum Entry
URL;VALUE=URI:https://kansascityonthecheap.com/event/free-museum-entry-3/
DTSTAMP:20260422T025759
UID:69e87f8748a2e
END:VEVENT
END:VCALENDAR