BEGIN:VCALENDAR
VERSION:2.0
PRODID:-//hacksw/handcal//NONSGML v1.0//EN
CALSCALE:GREGORIAN
BEGIN:VEVENT
LOCATION:Multiple
DESCRIPTION:https://kansascityonthecheap.com/event/free-entrance-americas-national-parks-6/
DTSTART;TZID=America/Chicago:20260917T000000
DTEND;TZID=America/Chicago:20260917T000000
SUMMARY:Free entrance to U.S. National Parks
URL;VALUE=URI:https://kansascityonthecheap.com/event/free-entrance-americas-national-parks-6/
DTSTAMP:20260421T041747
UID:69e740bbb717c
END:VEVENT
END:VCALENDAR